BEGIN:VCALENDAR
VERSION:2.0
PRODID:-//CentroPR - ECPv6.15.2//NONSGML v1.0//EN
CALSCALE:GREGORIAN
METHOD:PUBLISH
X-WR-CALNAME:CentroPR
X-ORIGINAL-URL:https://centropr.hunter.cuny.edu
X-WR-CALDESC:Events for CentroPR
REFRESH-INTERVAL;VALUE=DURATION:PT1H
X-Robots-Tag:noindex
X-PUBLISHED-TTL:PT1H
BEGIN:VTIMEZONE
TZID:America/New_York
BEGIN:DAYLIGHT
TZOFFSETFROM:-0500
TZOFFSETTO:-0400
TZNAME:EDT
DTSTART:20250309T070000
END:DAYLIGHT
BEGIN:STANDARD
TZOFFSETFROM:-0400
TZOFFSETTO:-0500
TZNAME:EST
DTSTART:20251102T060000
END:STANDARD
END:VTIMEZONE
BEGIN:VEVENT
DTSTART;TZID=America/New_York:20250403T180000
DTEND;TZID=America/New_York:20250403T210000
DTSTAMP:20260421T105239
CREATED:20250328T180137Z
LAST-MODIFIED:20250328T180138Z
UID:18927-1743703200-1743714000@centropr.hunter.cuny.edu
SUMMARY:(Partner Event) Presentacion oficial en NY Poemario "Amnericas" de Miguelangel Suarez
DESCRIPTION:This coming Thursday\, April 3rd\, will be the official presentation of the poetry collection “Amnericas\,” written by Puerto Rican leading actor Miguelangel Suarez and published by the Alejandro Tapia y Rivera Institute of Puerto Rico. The presentation will be free at the Center for Puerto Rican Studies at 6:00 p.m.\, with guest artists reading some of the poems. \nPresenter: PhD Carlos Manuel Rivera Guest Artists: Erck Gonzalez\, Frank Rodriguez\, Luis Laro Rodriguez\, singer-songwriter Mario Cancel… and Belange Rodriguez and Amneris Morales. You can purchase the book that evening. \n\n“Amnericas” is like the America we love\, our America\, simple\, sweet\, plain\, and sad like a corn crop\, like a harvest of hope.-Roberto Ramos Peres\n\n\nEl poemario “Amnericas” escrito por el primer actor puertorriqueno Miguelangel Suarez publicado por El Instituto Alejandro Tapia y Rivera de Puerto Rico. La presentación será libre de costo en El Centro de Estudios Puertorriqueños a las 6:00 P.M. con la participación de artistas invitados que leerán algunos de los poemas\nPresentador: PhD Carlos Manuel Rivera\nArtistas Invitados: Erck Gonzalez\, Frank Rodriguez\, Luis Laro Rodriguez\, el canta-autor Mario Cancel… y Belange Rodriguez y Amneris Morales\nEsa noche podrán adquirir el libro.\n\n“Amnéricas es como la América que se ama\, la América nuestra\, sencilla\, dulce\, simple y triste como una siembra de maíz\, como una cosecha de esperanza”. Roberto Ramos Perea
URL:https://centropr.hunter.cuny.edu/event/partner-event-presentacion-oficial-en-ny-poemario-amnericas-de-miguelangel-suarez/
LOCATION:CENTRO en El Barrio\, 2180 3rd Ave\, New York\, New York\, 10065
CATEGORIES:Literature & Poetry,Special Events
ATTACH;FMTTYPE=image/jpeg:https://centropr.hunter.cuny.edu/app/uploads/2025/03/Invitacion-Amnericas-NYC.jpg
ORGANIZER;CN="Barrio Independent Productions":MAILTO:barrioindependentproductions@gmail.com
END:VEVENT
END:VCALENDAR