BEGIN:VCALENDAR
VERSION:2.0
PRODID:-//CentroPR - ECPv6.15.2//NONSGML v1.0//EN
CALSCALE:GREGORIAN
METHOD:PUBLISH
X-WR-CALNAME:CentroPR
X-ORIGINAL-URL:https://centropr.hunter.cuny.edu
X-WR-CALDESC:Events for CentroPR
REFRESH-INTERVAL;VALUE=DURATION:PT1H
X-Robots-Tag:noindex
X-PUBLISHED-TTL:PT1H
BEGIN:VTIMEZONE
TZID:America/New_York
BEGIN:DAYLIGHT
TZOFFSETFROM:-0500
TZOFFSETTO:-0400
TZNAME:EDT
DTSTART:20260308T070000
END:DAYLIGHT
BEGIN:STANDARD
TZOFFSETFROM:-0400
TZOFFSETTO:-0500
TZNAME:EST
DTSTART:20261101T060000
END:STANDARD
END:VTIMEZONE
BEGIN:VEVENT
DTSTART;TZID=America/New_York:20260504T180000
DTEND;TZID=America/New_York:20260504T230000
DTSTAMP:20260421T142946
CREATED:20260410T181512Z
LAST-MODIFIED:20260417T174328Z
UID:10002336-1777917600-1777935600@centropr.hunter.cuny.edu
SUMMARY:Partner Event: Bajo el Lino
DESCRIPTION:I am pleased to present Bajo el Lino: The Guayabera\, Colonial Gender Systems\, and the Decolonial Possibilities of Dress\, my senior thesis project\, realized as a one-night exhibition.\n\nDeveloped in collaboration with Seventh House Gallery and Julia de Burgos Bookstore at Taller Puertorriqueño\, this project examines the guayabera as both a material object and a historical archive. The garment is approached as a site through which colonial structures—particularly those of race\, gender\, and national identity—are inscribed\, embodied\, and reproduced.\n\nThrough processes of deconstruction and reconstruction\, including the alteration of inherited silhouettes and the incorporation of embroidered texts and symbols of resistance\, the work positions the guayabera as both critical inquiry and embodied praxis. In doing so\, it proposes dress as a medium through which colonial logics may be materially unsettled and reconfigured toward more expansive and enduring forms of individual and collective expression.\n\nAdmission is free. Proceeds from the event and participating vendors will support Sylvia Rivera Law Project\, which provides legal services and advocacy for trans\, queer\, and gender-nonconforming communities in New York City.\n\nMay 4\, 2026\, 6:00–10:00 PM\n35 Meadow Street\, Brooklyn\, NY 11206\n\n—–\n\nMe complace presentar Bajo el Lino: La guayabera\, los sistemas coloniales de género y las posibilidades decoloniales del vestir\, mi proyecto de tesis de licenciatura\, realizado como una exposición de una sola noche.\n\nDesarrollado en colaboración con Seventh House Gallery y la Julia de Burgos Bookstore de Taller Puertorriqueño\, este proyecto examina la guayabera tanto como objeto material como archivo histórico. La prenda se aborda como un espacio donde las estructuras coloniales—particularmente aquellas relacionadas con la raza\, el género y la identidad nacional—se inscriben\, se encarnan y se reproducen.\n\nA través de procesos de deconstrucción y reconstrucción\, que incluyen la alteración de siluetas heredadas y la incorporación de textos y símbolos de resistencia bordados\, la obra sitúa la guayabera como un ejercicio de investigación crítica y praxis encarnada. De este modo\, propone el vestir como un medio a través del cual las lógicas coloniales pueden ser materialmente desestabilizadas y reconfiguradas hacia formas más amplias y duraderas de expresión individual y colectiva.\n\nLa entrada es gratuita. Los fondos recaudados durante el evento y por los vendedores participantes apoyarán al Sylvia Rivera Law Project\, que brinda servicios legales y defensa a comunidades trans\, queer y de género no conforme en la ciudad de Nueva York.\n\n4 de mayo de 2026\, 6:00–10:00 PM\n35 Meadow Street\, Brooklyn\, NY 11206
URL:https://centropr.hunter.cuny.edu/event/bajo-el-lino/
LOCATION:Seven House Gallery\, 35 Meadow St\, Brooklyn\, CA\, 11206\, United States
CATEGORIES:Special Events
ATTACH;FMTTYPE=image/jpeg:https://centropr.hunter.cuny.edu/app/uploads/2026/04/Bajo-El-Lino-Flyer-scaled.jpg
END:VEVENT
END:VCALENDAR